BEGIN:VCALENDAR
VERSION:2.0
PRODID:-//Butterflies2Go - ECPv6.15.18//NONSGML v1.0//EN
CALSCALE:GREGORIAN
METHOD:PUBLISH
X-ORIGINAL-URL:https://www.butterflies2go.com
X-WR-CALDESC:Events for Butterflies2Go
REFRESH-INTERVAL;VALUE=DURATION:PT1H
X-Robots-Tag:noindex
X-PUBLISHED-TTL:PT1H
BEGIN:VTIMEZONE
TZID:America/Anchorage
BEGIN:DAYLIGHT
TZOFFSETFROM:-0900
TZOFFSETTO:-0800
TZNAME:AKDT
DTSTART:20250309T110000
END:DAYLIGHT
BEGIN:STANDARD
TZOFFSETFROM:-0800
TZOFFSETTO:-0900
TZNAME:AKST
DTSTART:20251102T100000
END:STANDARD
BEGIN:DAYLIGHT
TZOFFSETFROM:-0900
TZOFFSETTO:-0800
TZNAME:AKDT
DTSTART:20260308T110000
END:DAYLIGHT
BEGIN:STANDARD
TZOFFSETFROM:-0800
TZOFFSETTO:-0900
TZNAME:AKST
DTSTART:20261101T100000
END:STANDARD
BEGIN:DAYLIGHT
TZOFFSETFROM:-0900
TZOFFSETTO:-0800
TZNAME:AKDT
DTSTART:20270314T110000
END:DAYLIGHT
BEGIN:STANDARD
TZOFFSETFROM:-0800
TZOFFSETTO:-0900
TZNAME:AKST
DTSTART:20271107T100000
END:STANDARD
END:VTIMEZONE
BEGIN:VEVENT
DTSTART;TZID=America/Anchorage:20260226T100000
DTEND;TZID=America/Anchorage:20260308T220000
DTSTAMP:20260424T074302
CREATED:20231101T170755Z
LAST-MODIFIED:20251228T180706Z
UID:21329-1772100000-1773007200@www.butterflies2go.com
SUMMARY:Strawberry Festival\, Plant City Fl
DESCRIPTION:
URL:https://www.butterflies2go.com/event/strawberry-festival-plant-city-fl-2/
LOCATION:Florida Strawberry Festival\, 303 N Lemon St\, Plant City\, FL\, 33563\, United States
END:VEVENT
BEGIN:VEVENT
DTSTART;TZID=America/Anchorage:20260717T090000
DTEND;TZID=America/Anchorage:20260726T170000
DTSTAMP:20260424T074302
CREATED:20221121T064320Z
LAST-MODIFIED:20251228T181111Z
UID:20340-1784278800-1785085200@www.butterflies2go.com
SUMMARY:Cheyenne Frontier Day\, Cheyenne WY
DESCRIPTION:
URL:https://www.butterflies2go.com/event/cheyenne-frontier-day-cheyenne-wy/
LOCATION:Cheyenne Frontier Days\, 1230 W 8th Avenue\, Cheyenne\, Wyoming\, 82001
END:VEVENT
BEGIN:VEVENT
DTSTART;TZID=America/Anchorage:20260821T110000
DTEND;TZID=America/Anchorage:20260907T220000
DTSTAMP:20260424T074302
CREATED:20221121T064801Z
LAST-MODIFIED:20251228T181007Z
UID:20343-1787310000-1788818400@www.butterflies2go.com
SUMMARY:Alaska State Fair\, Palmer Alaska
DESCRIPTION:
URL:https://www.butterflies2go.com/event/alaska-state-fair-palmer-alaska/
LOCATION:Alaska State Fair\, 2075 Glenn Hwy\, Palmer\, AK 99645\, Palmer\, AK\, United States
END:VEVENT
BEGIN:VEVENT
DTSTART;TZID=America/Anchorage:20260917T100000
DTEND;TZID=America/Anchorage:20260927T210000
DTSTAMP:20260424T074302
CREATED:20221121T065022Z
LAST-MODIFIED:20251228T180848Z
UID:20345-1789639200-1790542800@www.butterflies2go.com
SUMMARY:Oklahoma State Fair\, Oklahoma City OK
DESCRIPTION:
URL:https://www.butterflies2go.com/event/oklahoma-state-fair-oklahoma-city-ok/
LOCATION:Oklahoma State Fair Grounds\, Booth #149\, 3001 General Pershing Boulevard\, Oklahoma City\, OK\, 73107\, United States
END:VEVENT
BEGIN:VEVENT
DTSTART;TZID=America/Anchorage:20260926T100000
DTEND;TZID=America/Anchorage:20261019T210000
DTSTAMP:20260424T074302
CREATED:20221121T065534Z
LAST-MODIFIED:20251228T181915Z
UID:20347-1790416800-1792443600@www.butterflies2go.com
SUMMARY:Texas State Fair\, Dallas Texas
DESCRIPTION:
URL:https://www.butterflies2go.com/event/texas-state-fair-dallas-texas/
LOCATION:Texas State Fair\, Dallas Texas\, 3921 Martin Luther King Jr Blvd\, Dallas\, Texas
END:VEVENT
BEGIN:VEVENT
DTSTART;TZID=America/Anchorage:20261107T090000
DTEND;TZID=America/Anchorage:20261108T160000
DTSTAMP:20260424T074302
CREATED:20241109T090050Z
LAST-MODIFIED:20251228T181737Z
UID:20350-1794042000-1794153600@www.butterflies2go.com
SUMMARY:Mat-Su Christmas Show\, Wasilla AK
DESCRIPTION:
URL:https://www.butterflies2go.com/event/mat-su-christmas-show-wasilla-ak/
LOCATION:Mat-Su Christmas Show\, 1625 Edlund Rd\, Wasilla\, Alaska
END:VEVENT
BEGIN:VEVENT
DTSTART;TZID=America/Anchorage:20261113T080000
DTEND;TZID=America/Anchorage:20261115T170000
DTSTAMP:20260424T074302
CREATED:20221121T070302Z
LAST-MODIFIED:20251228T181516Z
UID:20353-1794556800-1794762000@www.butterflies2go.com
SUMMARY:Fairbanks Christmas Show\, Fairbanks AK
DESCRIPTION:
URL:https://www.butterflies2go.com/event/fairbanks-christmas-show-fairbanks-ak/
LOCATION:Carlson Center\, Booth #29 & 30\, Fairbanks\, AK\, United States
END:VEVENT
END:VCALENDAR