BEGIN:VCALENDAR
VERSION:2.0
PRODID:-//Butterflies2Go - ECPv6.15.18//NONSGML v1.0//EN
CALSCALE:GREGORIAN
METHOD:PUBLISH
X-WR-CALNAME:Butterflies2Go
X-ORIGINAL-URL:https://www.butterflies2go.com
X-WR-CALDESC:Events for Butterflies2Go
REFRESH-INTERVAL;VALUE=DURATION:PT1H
X-Robots-Tag:noindex
X-PUBLISHED-TTL:PT1H
BEGIN:VTIMEZONE
TZID:America/Anchorage
BEGIN:DAYLIGHT
TZOFFSETFROM:-0900
TZOFFSETTO:-0800
TZNAME:AKDT
DTSTART:20250309T110000
END:DAYLIGHT
BEGIN:STANDARD
TZOFFSETFROM:-0800
TZOFFSETTO:-0900
TZNAME:AKST
DTSTART:20251102T100000
END:STANDARD
BEGIN:DAYLIGHT
TZOFFSETFROM:-0900
TZOFFSETTO:-0800
TZNAME:AKDT
DTSTART:20260308T110000
END:DAYLIGHT
BEGIN:STANDARD
TZOFFSETFROM:-0800
TZOFFSETTO:-0900
TZNAME:AKST
DTSTART:20261101T100000
END:STANDARD
BEGIN:DAYLIGHT
TZOFFSETFROM:-0900
TZOFFSETTO:-0800
TZNAME:AKDT
DTSTART:20270314T110000
END:DAYLIGHT
BEGIN:STANDARD
TZOFFSETFROM:-0800
TZOFFSETTO:-0900
TZNAME:AKST
DTSTART:20271107T100000
END:STANDARD
END:VTIMEZONE
BEGIN:VEVENT
DTSTART;TZID=America/Anchorage:20260717T090000
DTEND;TZID=America/Anchorage:20260726T170000
DTSTAMP:20260424T055953
CREATED:20221121T064320Z
LAST-MODIFIED:20251228T181111Z
UID:20340-1784278800-1785085200@www.butterflies2go.com
SUMMARY:Cheyenne Frontier Day\, Cheyenne WY
DESCRIPTION:
URL:https://www.butterflies2go.com/event/cheyenne-frontier-day-cheyenne-wy/
LOCATION:Cheyenne Frontier Days\, 1230 W 8th Avenue\, Cheyenne\, Wyoming\, 82001
END:VEVENT
END:VCALENDAR